BEGIN:VCALENDAR
VERSION:2.0
PRODID:-//Lab Communications Eventi - ECPv6.15.11//NONSGML v1.0//EN
CALSCALE:GREGORIAN
METHOD:PUBLISH
X-WR-CALNAME:Lab Communications Eventi
X-ORIGINAL-URL:https://labcommunications.it
X-WR-CALDESC:Eventi per Lab Communications Eventi
REFRESH-INTERVAL;VALUE=DURATION:PT1H
X-Robots-Tag:noindex
X-PUBLISHED-TTL:PT1H
BEGIN:VTIMEZONE
TZID:Europe/Rome
BEGIN:DAYLIGHT
TZOFFSETFROM:+0100
TZOFFSETTO:+0200
TZNAME:CEST
DTSTART:20240331T010000
END:DAYLIGHT
BEGIN:STANDARD
TZOFFSETFROM:+0200
TZOFFSETTO:+0100
TZNAME:CET
DTSTART:20241027T010000
END:STANDARD
BEGIN:DAYLIGHT
TZOFFSETFROM:+0100
TZOFFSETTO:+0200
TZNAME:CEST
DTSTART:20250330T010000
END:DAYLIGHT
BEGIN:STANDARD
TZOFFSETFROM:+0200
TZOFFSETTO:+0100
TZNAME:CET
DTSTART:20251026T010000
END:STANDARD
BEGIN:DAYLIGHT
TZOFFSETFROM:+0100
TZOFFSETTO:+0200
TZNAME:CEST
DTSTART:20260329T010000
END:DAYLIGHT
BEGIN:STANDARD
TZOFFSETFROM:+0200
TZOFFSETTO:+0100
TZNAME:CET
DTSTART:20261025T010000
END:STANDARD
END:VTIMEZONE
BEGIN:VEVENT
DTSTART;TZID=Europe/Rome:20251217T180000
DTEND;TZID=Europe/Rome:20251217T200000
DTSTAMP:20260420T045741
CREATED:20251215T082118Z
LAST-MODIFIED:20251215T082118Z
UID:62402-1765994400-1766001600@labcommunications.it
SUMMARY:Il Natale dei Bambini - Martina Franca
DESCRIPTION:Il Natale dei Bambini\n17 dicembre – start ore 18\nMartina Franca \nMercoledì 17 dicembre appuntamento magico a Martina Franca con “Il Natale dei Bambini”\, dedicato al divertimento dei più piccoli. Babbo Natale arriverà con una luminosa slitta trainata da un meraviglioso cavallo bianco e darà il via a spettacoli\, attrazioni e tanta allegria che animeranno piazza Roma\, piazza Plebiscito e piazza Maria Immacolata per un evento imperdibile. \nA rendere entusiasmante l’evento saranno: \nil trono con Babbo Natale \nle simpatiche mascotte \nil sorprendente spettacolo di magia \nl’elfo truccabimbi \nl’esilarante Hula Hoop Show \nl’effervescente ElfoClown \nil meraviglioso mondo delle bolle giganti \nGrinch gigante \nEvento organizzato da Associazione Culturale Happy e promosso dal Comune di Martina Franca – Assessorato alle Attività Culturali e allo Spettacolo\, con il sostegno di Banca di Credito Cooperativo di Locorotondo.
URL:https://labcommunications.it/evento/il-natale-dei-bambini-martina-franca/
CATEGORIES:Eventi
ATTACH;FMTTYPE=image/jpeg:https://labcommunications.it/wp-content/uploads/2025/12/natale-bambini-17122025.jpg
END:VEVENT
BEGIN:VEVENT
DTSTART;TZID=Europe/Rome:20251216T180000
DTEND;TZID=Europe/Rome:20251216T200000
DTSTAMP:20260420T045741
CREATED:20251215T082435Z
LAST-MODIFIED:20251215T082640Z
UID:62405-1765908000-1765915200@labcommunications.it
SUMMARY:Street Magic Fantasy - Polignano a Mare
DESCRIPTION:Street Magic Fantasy\nGran Parata di Natale\nPolignano a Mare\n16 dicembre – start ore 18 \nOh oh oh… martedì 16 dicembre Babbo Natale arriva a Polignano a Mare con una scintillante slitta trainata da un meraviglioso cavallo bianco\, attraversando la città con una spettacolare parata di mascotte e personaggi Disney accompagnata dalla travolgente Street Christmas Band. \nUn viaggio fiabesco per la gioia dei più piccoli\, che potranno incontrare Babbo Natale insieme a Topolino\, Minnie\, Paperino\, Pippo\, Masha & Orso\, Cenerentola\, Winnie the Pooh\, Minions\, Elsa & Olaf\, Biancaneve\, Belle & la Bestia\, Spiderman\, Captain America e tanti altri. \nPercorso della parata\nPartenza alle ore 18 da viale Trieste (Stazione)\, proseguendo poi per via delle Rimembranze\, via Neapolis\, piazza Aldo Moro\, via Martiri di Dogali. \nEvento organizzato da Lab Communications Eventi di Concetta Renna e promosso dal Comune di Polignano a Mare.
URL:https://labcommunications.it/evento/street-magic-fantasy-polignano-a-mare/
CATEGORIES:Eventi
ATTACH;FMTTYPE=image/jpeg:https://labcommunications.it/wp-content/uploads/2025/12/parata-polignano-16-12-2025.jpg
END:VEVENT
BEGIN:VEVENT
DTSTART;TZID=Europe/Rome:20251214T180000
DTEND;TZID=Europe/Rome:20251214T200000
DTSTAMP:20260420T045741
CREATED:20251211T073446Z
LAST-MODIFIED:20251211T073446Z
UID:62399-1765735200-1765742400@labcommunications.it
SUMMARY:Il Natale dei Bambini – Francavilla Fontana
DESCRIPTION:Il Natale dei Bambini\n14 dicembre – start ore 18\nFrancavilla Fontana \nDomenica 14 dicembre arriva a Francavilla Fontana “Il Natale dei Bambini”\, un appuntamento magico dedicato al divertimento dei più piccoli. Spettacoli\, attrazioni e tanta allegria animeranno piazza Umberto\, piazza Dante e via Roma per un evento imperdibile. \nA rendere entusiasmante l’evento saranno: \nil trono con Babbo Natale \nle simpatiche mascotte \nil sorprendente spettacolo di magia \nl’elfo truccabimbi \nl’esilarante giocoliere \nl’effervescente ElfoClown \nil meraviglioso Hula Hoop Show \nGrinch gigante \nEvento organizzato da Lab Communications Eventi di Concetta Renna in collaborazione con la Coop. Sociale A.D.A.M. e promosso dal Comune di Francavilla Fontana.
URL:https://labcommunications.it/evento/il-natale-dei-bambini-francavilla-fontana/
CATEGORIES:Eventi
ATTACH;FMTTYPE=image/jpeg:https://labcommunications.it/wp-content/uploads/2025/12/natale-francavilla-11-12-2025.jpg
END:VEVENT
BEGIN:VEVENT
DTSTART;TZID=Europe/Rome:20251213T183000
DTEND;TZID=Europe/Rome:20251213T203000
DTSTAMP:20260420T045741
CREATED:20251210T085504Z
LAST-MODIFIED:20251210T085504Z
UID:62396-1765650600-1765657800@labcommunications.it
SUMMARY:Il Natale dei Bambini – Putignano
DESCRIPTION:Il Natale dei Bambini\n13 dicembre – start ore 18:30\nPutignano \nSabato 13 dicembre arriva a Putignano “Il Natale dei Bambini”\, un appuntamento magico dedicato al divertimento dei più piccoli. Spettacoli\, attrazioni e tanta allegria animeranno Chiostro Comune e piazza Teatro per un evento imperdibile. \nA rendere entusiasmante l’evento saranno: \nil trono con Babbo Natale \nle simpatiche mascotte \nl’elfo truccabimbi \nil sorprendente spettacolo di magia \nl’esilarante giocoliere \nl’effervescente ElfoClown \nil meraviglioso Hula Hoop Show \nla trampoliera cantastorie \nGrinch gigante \nEvento organizzato da Lab Communications Eventi di Concetta Renna in collaborazione con:\nAssociazione Auxesia Onlus\, A Modo Loro Coop. Soc. – Fantabosco Crisalide Srl – Ludicamente Coop. Soc. – Sole Luna Coop. Soc. – Volti Rivolti Coop. Soc. – Asilo nido comunale di Putignano – coop La Scintilla Soc. Coop. Sociale – Centro Servizi Famiglie – Programma Pippi Ambito Putignano gestito dall’ATI Cooperativa Medihospes e Cooperativa Itaca – Cooperativa Sociale DaLiMa\, ente gestore progetto SAI Ambito di Putignano – Centro Anziani Polivalente Margherita Pusterla\, gestito da cooperativa Occupazione e Solidarietà\, e promosso dal Comune di Putignano.
URL:https://labcommunications.it/evento/il-natale-dei-bambini-putignano/
CATEGORIES:Eventi
ATTACH;FMTTYPE=image/jpeg:https://labcommunications.it/wp-content/uploads/2025/12/putignano-13-12-2025.jpg
END:VEVENT
BEGIN:VEVENT
DTSTART;TZID=Europe/Rome:20251212T180000
DTEND;TZID=Europe/Rome:20251212T200000
DTSTAMP:20260420T045741
CREATED:20251209T165524Z
LAST-MODIFIED:20251209T165542Z
UID:62384-1765562400-1765569600@labcommunications.it
SUMMARY:Street Magic Fantasy – Fasano
DESCRIPTION:Street Magic Fantasy\nGran Parata di Natale\nFasano\n12 dicembre – start ore 18 \nOh oh oh… venerdì 12 dicembre Babbo Natale arriva a Fasano con una scintillante slitta trainata da un meraviglioso cavallo bianco\, attraversando la città con una spettacolare parata di mascotte e personaggi Disney accompagnata dalla travolgente Street Christmas Band. \nUn viaggio fiabesco per la gioia dei più piccoli\, che potranno incontrare Babbo Natale insieme a Topolino\, Minnie\, Paperino\, Pippo\, Masha & Orso\, Cenerentola\, Winnie the Pooh\, Minions\, Elsa & Olaf\, Biancaneve\, Belle & la Bestia\, Spiderman\, Captain America e tanti altri. \nPercorso della parata\nPartenza alle ore 18 da largo Palmina Martinelli proseguendo poi per via Gramsci\, via Contardo Ferrini\, via San Francesco\, via Carlo Alberto\, piazza Ciaia\, corso Vittorio Emanuele\, corso Perrini\, via della Resistenza\, via Graviniella. \nEvento organizzato da Lab Communications Eventi di Concetta Renna e promosso dal Comune di Fasano.
URL:https://labcommunications.it/evento/street-magic-fantasy-fasano/
CATEGORIES:Eventi
ATTACH;FMTTYPE=image/jpeg:https://labcommunications.it/wp-content/uploads/2025/12/fasano-9-12-2025.jpg
END:VEVENT
BEGIN:VEVENT
DTSTART;TZID=Europe/Rome:20251211T173000
DTEND;TZID=Europe/Rome:20251211T203000
DTSTAMP:20260420T045741
CREATED:20251208T192437Z
LAST-MODIFIED:20251208T192437Z
UID:62381-1765474200-1765485000@labcommunications.it
SUMMARY:Il Natale dei Bambini - San Vito dei Normanni
DESCRIPTION:Il Natale dei Bambini\n11 dicembre – start ore 17:30\nSan Vito dei Normanni \nGiovedì 11 dicembre arriva a San Vito dei Normanni “Il Natale dei Bambini”\, un appuntamento magico dedicato al divertimento dei più piccoli. Spettacoli\, attrazioni e tanta allegria animeranno piazza Leonardo Leo per un evento imperdibile. \nA rendere entusiasmante l’evento saranno: \nle simpatiche mascotte \nil sorprendente spettacolo di magia \nil trono con Babbo Natale \nl’esilarante giocoliere \nl’effervescente clown cabaret \nil meraviglioso mondo delle bolle giganti \nGrinch gigante \nL’evento è organizzato da Lab Communications Eventi di Concetta Renna in collaborazione con il Consorzio Hera Soc. Coop. Soc.\, Coop. Sociale Oasi Onlus – Progetto SAI 1249 PR-2 e promosso dal Comune di San Vito dei Normanni
URL:https://labcommunications.it/evento/il-natale-dei-bambini-san-vito-dei-normanni/
CATEGORIES:Eventi
ATTACH;FMTTYPE=image/jpeg:https://labcommunications.it/wp-content/uploads/2025/12/natale-bambini-san-vito-11-12-2025.jpg
END:VEVENT
BEGIN:VEVENT
DTSTART;TZID=Europe/Rome:20251208T173000
DTEND;TZID=Europe/Rome:20251208T203000
DTSTAMP:20260420T045741
CREATED:20251204T081139Z
LAST-MODIFIED:20251204T081139Z
UID:62077-1765215000-1765225800@labcommunications.it
SUMMARY:Il Natale dei Bambini - Cellino San Marco
DESCRIPTION:Il Natale dei Bambini\n8 dicembre – start ore 17:30\nCellino San Marco \nLunedì 8 dicembre arriva a Cellino San Marco “Il Natale dei Bambini”\, un appuntamento magico dedicato al divertimento dei più piccoli. Spettacoli\, attrazioni e tanta allegria animeranno piazza Aldo Moro per un evento imperdibile. \nA rendere entusiasmante l’evento saranno: \n.le simpatiche mascotte\n.il sorprendente spettacolo di magia\n.la scintillante trampoliera luminosa\n.l’esilarante Balloon Man\n.l’effervescente clown cabaret\n.il divertentissimo giocoliere \nL’evento è organizzato da Lab Communications Eventi di Concetta Renna e promosso dal Comune di Cellino San Marco.
URL:https://labcommunications.it/evento/il-natale-dei-bambini-cellino-san-marco/
CATEGORIES:Eventi
ATTACH;FMTTYPE=image/jpeg:https://labcommunications.it/wp-content/uploads/2025/12/natale-bambini-cellino-8-12-2025.jpg
END:VEVENT
BEGIN:VEVENT
DTSTART;TZID=Europe/Rome:20251207T180000
DTEND;TZID=Europe/Rome:20251207T200000
DTSTAMP:20260420T045741
CREATED:20251128T162048Z
LAST-MODIFIED:20251204T081454Z
UID:62057-1765130400-1765137600@labcommunications.it
SUMMARY:Street Magic Fantasy – Alberobello
DESCRIPTION:Street Magic Fantasy\nGran Parata di Natale\nAlberobello\n7 dicembre – start ore 18 \nOh oh oh… domenica 7 dicembre Babbo Natale arriva ad Alberobello con una scintillante slitta trainata da un meraviglioso cavallo bianco\, attraversando la città con una spettacolare parata di mascotte e personaggi Disney accompagnata dalla travolgente Street Christmas Band. \nUn viaggio fiabesco per la gioia dei più piccoli\, che potranno incontrare Babbo Natale insieme a Topolino\, Minnie\, Paperino\, Pippo\, Masha & Orso\, Cenerentola\, Winnie the Pooh\, Minions\, Elsa & Olaf\, Biancaneve\, Belle & la Bestia\, Spiderman\, Captain America e tanti altri. \nPercorso della parata\nPartenza alle ore 18 dal Trullo Sovrano in piazza Sacramento\, proseguendo per corso Vittorio Emanuele\, via Dante Alighieri\, arrivo in largo Martellotta. \nEvento organizzato da Lab Communications Eventi di Concetta Renna in collaborazione con il Comune di Alberobello.
URL:https://labcommunications.it/evento/street-magic-fantasy-alberobello/
CATEGORIES:Eventi
ATTACH;FMTTYPE=image/jpeg:https://labcommunications.it/wp-content/uploads/2025/11/7-12-2025-alberobello.jpg
END:VEVENT
BEGIN:VEVENT
DTSTART;TZID=Europe/Rome:20251207T110000
DTEND;TZID=Europe/Rome:20251207T130000
DTSTAMP:20260420T045741
CREATED:20251128T161511Z
LAST-MODIFIED:20251204T081450Z
UID:61960-1765105200-1765112400@labcommunications.it
SUMMARY:Street Magic Fantasy - Massafra
DESCRIPTION:Street Magic Fantasy\nGran Parata di Natale\nMassafra\n7 dicembre – start ore 11 \nOh oh oh… domenica 7 dicembre Babbo Natale arriva a Massafra con una scintillante slitta trainata da un meraviglioso cavallo bianco\, attraversando la città con una spettacolare parata di mascotte e personaggi Disney accompagnata dalla travolgente Street Christmas Band. \nUn viaggio fiabesco per la gioia dei più piccoli\, che potranno incontrare Babbo Natale insieme a Topolino\, Minnie\, Paperino\, Pippo\, Masha & Orso\, Cenerentola\, Winnie the Pooh\, Minions\, Elsa & Olaf\, Biancaneve\, Belle & la Bestia\, Spiderman\, Captain America e tanti altri. \nPercorso della parata\nPartenza alle ore 11 da via Livatino (Comune)\, proseguendo per corso Roma\, piazza Vittorio Emanuele\, corso Italia\, piazza Garibaldi\, corso Italia\, piazza Vittorio Emanuele\, arrivo in corso Roma. \nEvento organizzato da Lab Communications Eventi di Concetta Renna in collaborazione con il Comune di Massafra.
URL:https://labcommunications.it/evento/street-magic-fantasy-massafra/
CATEGORIES:Eventi
ATTACH;FMTTYPE=image/jpeg:https://labcommunications.it/wp-content/uploads/2025/11/7-12-2025-massafra.jpg
END:VEVENT
BEGIN:VEVENT
DTSTART;TZID=Europe/Rome:20251206T183000
DTEND;TZID=Europe/Rome:20251206T213000
DTSTAMP:20260420T045741
CREATED:20251128T162548Z
LAST-MODIFIED:20251208T224310Z
UID:62061-1765045800-1765056600@labcommunications.it
SUMMARY:La notte bianca dei bambini - Modugno
DESCRIPTION:La Notte Bianca dei Bambini\nChristmas Edition\n6 dicembre – start ore 18:30\nModugno \nSabato 6 dicembre a Modugno il cielo si illumina con la grande accensione dell’Albero di Natale e subito dopo prende il via la Notte Bianca dei Bambini – Christmas Edition. \nUna festa pensata per stupire e incantare tutta la famiglia in un piccolo mondo di magia\, di gioia\, risate e incanto\, dove ogni angolo della città si trasformerà in un piccolo mondo di Natale\, tra luci scintillanti\, attrazioni e spettacoli sorprendenti. \nA rendere entusiasmante la serata saranno: \n– Piazza Sedile \n.il trono con Babbo Natale\n.l’entusiasmante clown cabaret\n.l’effervescente giocoliere\n.l’esilarante show di magia/ventriloquia \n– Corso Cavour \n.il suggestivo led show\n.le simpatiche mascotte\n.lo strabiliante spazzacamino\n.le magiche ombre cinesi \n– Piazza del Popolo \n.il divertente spettacolo di magia comica \n– Corso Umberto \n.il meraviglioso mondo delle bolle giganti\n.super show di giocoleria\n.Grinch gigante \nEvento organizzato da Lab Communications Eventi di Concetta Renna e Comune di Modugno.
URL:https://labcommunications.it/evento/la-notte-bianca-dei-bambini-modugno/
CATEGORIES:Eventi
ATTACH;FMTTYPE=image/jpeg:https://labcommunications.it/wp-content/uploads/2025/11/6-12-2025-modugno.jpg
END:VEVENT
END:VCALENDAR